BEGIN:VCALENDAR
VERSION:2.0
PRODID:-//League of Women Voters of the Mount Pleasant Area - ECPv6.15.20//NONSGML v1.0//EN
CALSCALE:GREGORIAN
METHOD:PUBLISH
X-WR-CALNAME:League of Women Voters of the Mount Pleasant Area
X-ORIGINAL-URL:https://lwvmpmi.org
X-WR-CALDESC:Events for League of Women Voters of the Mount Pleasant Area
REFRESH-INTERVAL;VALUE=DURATION:PT1H
X-Robots-Tag:noindex
X-PUBLISHED-TTL:PT1H
BEGIN:VTIMEZONE
TZID:America/Detroit
BEGIN:DAYLIGHT
TZOFFSETFROM:-0500
TZOFFSETTO:-0400
TZNAME:EDT
DTSTART:20250309T070000
END:DAYLIGHT
BEGIN:STANDARD
TZOFFSETFROM:-0400
TZOFFSETTO:-0500
TZNAME:EST
DTSTART:20251102T060000
END:STANDARD
BEGIN:DAYLIGHT
TZOFFSETFROM:-0500
TZOFFSETTO:-0400
TZNAME:EDT
DTSTART:20260308T070000
END:DAYLIGHT
BEGIN:STANDARD
TZOFFSETFROM:-0400
TZOFFSETTO:-0500
TZNAME:EST
DTSTART:20261101T060000
END:STANDARD
BEGIN:DAYLIGHT
TZOFFSETFROM:-0500
TZOFFSETTO:-0400
TZNAME:EDT
DTSTART:20270314T070000
END:DAYLIGHT
BEGIN:STANDARD
TZOFFSETFROM:-0400
TZOFFSETTO:-0500
TZNAME:EST
DTSTART:20271107T060000
END:STANDARD
END:VTIMEZONE
BEGIN:VEVENT
DTSTART;TZID=America/Detroit:20260422T190000
DTEND;TZID=America/Detroit:20260422T203000
DTSTAMP:20260422T062634
CREATED:20251208T015318Z
LAST-MODIFIED:20251208T015337Z
UID:1812-1776884400-1776889800@lwvmpmi.org
SUMMARY:Admin Team Monthly Meeting
DESCRIPTION:Held via Zoom
URL:https://lwvmpmi.org/event/admin-team-monthly-meeting-12/
END:VEVENT
END:VCALENDAR